BEGIN:VCALENDAR
VERSION:2.0
PRODID:-//Schönstattzentrum im Bistum Aachen - ECPv6.15.20//NONSGML v1.0//EN
CALSCALE:GREGORIAN
METHOD:PUBLISH
X-ORIGINAL-URL:https://www.schoenstatt-aachen.de
X-WR-CALDESC:Veranstaltungen für Schönstattzentrum im Bistum Aachen
REFRESH-INTERVAL;VALUE=DURATION:PT1H
X-Robots-Tag:noindex
X-PUBLISHED-TTL:PT1H
BEGIN:VTIMEZONE
TZID:Europe/Berlin
BEGIN:DAYLIGHT
TZOFFSETFROM:+0100
TZOFFSETTO:+0200
TZNAME:CEST
DTSTART:20250330T010000
END:DAYLIGHT
BEGIN:STANDARD
TZOFFSETFROM:+0200
TZOFFSETTO:+0100
TZNAME:CET
DTSTART:20251026T010000
END:STANDARD
BEGIN:DAYLIGHT
TZOFFSETFROM:+0100
TZOFFSETTO:+0200
TZNAME:CEST
DTSTART:20260329T010000
END:DAYLIGHT
BEGIN:STANDARD
TZOFFSETFROM:+0200
TZOFFSETTO:+0100
TZNAME:CET
DTSTART:20261025T010000
END:STANDARD
BEGIN:DAYLIGHT
TZOFFSETFROM:+0100
TZOFFSETTO:+0200
TZNAME:CEST
DTSTART:20270328T010000
END:DAYLIGHT
BEGIN:STANDARD
TZOFFSETFROM:+0200
TZOFFSETTO:+0100
TZNAME:CET
DTSTART:20271031T010000
END:STANDARD
BEGIN:DAYLIGHT
TZOFFSETFROM:+0100
TZOFFSETTO:+0200
TZNAME:CEST
DTSTART:20280326T010000
END:DAYLIGHT
BEGIN:STANDARD
TZOFFSETFROM:+0200
TZOFFSETTO:+0100
TZNAME:CET
DTSTART:20281029T010000
END:STANDARD
END:VTIMEZONE
BEGIN:VEVENT
DTSTART;TZID=Europe/Berlin:20261221T231300
DTEND;TZID=Europe/Berlin:20261222T011300
DTSTAMP:20260423T215056
CREATED:20260329T104721Z
LAST-MODIFIED:20260329T151811Z
UID:10008185-1797894780-1797901980@www.schoenstatt-aachen.de
SUMMARY:Heilige Messe
DESCRIPTION:„Tut dies zu meinem Gedächtnis.“\nGelegenheit zur Beichte auf Anfrage
URL:https://www.schoenstatt-aachen.de/veranstaltung/heilige-messe-2/
LOCATION:Missio-Patris-Heiligtum am Schönstattzentrum\, Schönstattstraße 19\, Baesweiler\, 52499\, Deutschland
CATEGORIES:Beten und Feiern
ATTACH;FMTTYPE=image/jpeg:https://www.schoenstatt-aachen.de/wp-content/uploads/2026/02/03-Heilige-Messe-Foto.jpg
END:VEVENT
BEGIN:VEVENT
DTSTART;TZID=Europe/Berlin:20261224T100000
DTEND;TZID=Europe/Berlin:20270106T170000
DTSTAMP:20260423T215056
CREATED:20260103T184713Z
LAST-MODIFIED:20260103T185615Z
UID:10007968-1798106400-1799254800@www.schoenstatt-aachen.de
SUMMARY:Weihnachtsweg im Gelände
DESCRIPTION:Für Familien oder einzelne Personen \nEin Stationsweg im Gelände\, den man jederzeit alleine oder gemeinsam gehen kann. In diesem Jahr begleitet die Besucher ein kleiner Esel.
URL:https://www.schoenstatt-aachen.de/veranstaltung/weihnachtsweg-im-gelaende/
LOCATION:Außengelände vor dem Heiligtum
CATEGORIES:Familie und EhePaare,für Jeden
ATTACH;FMTTYPE=image/jpeg:https://www.schoenstatt-aachen.de/wp-content/uploads/2026/01/IMG_5027.jpeg
END:VEVENT
BEGIN:VEVENT
DTSTART;TZID=Europe/Berlin:20261230T160000
DTEND;TZID=Europe/Berlin:20261230T200000
DTSTAMP:20260423T215056
CREATED:20251215T195432Z
LAST-MODIFIED:20260103T182950Z
UID:10004344-1798646400-1798660800@www.schoenstatt-aachen.de
SUMMARY:Jahresausglühen
DESCRIPTION:Gemütliches Zusammensein bei Glühwein\, Kinderpunsch\, Weihnachtsgebäck und Hotdogs. \nSingen von alten und neuen Weihnachtsliedern mit Begleitung durch die Schützenkapelle Hünshoven. \nBesinnliche Impulse  zum Jahreswechsel. \n 
URL:https://www.schoenstatt-aachen.de/veranstaltung/jahresausgluehen-2-2/
LOCATION:Haus der Begegnung – Schönstattzentrum im Bistum Aachen\, Schönstattstraße 19\, Baesweiler\, 52499\, Deutschland
CATEGORIES:für Jeden
ATTACH;FMTTYPE=image/png:https://www.schoenstatt-aachen.de/wp-content/uploads/2024/11/Jahresausgluehen.png
END:VEVENT
END:VCALENDAR