BEGIN:VCALENDAR
VERSION:2.0
PRODID:-//Schönstattzentrum im Bistum Aachen - ECPv6.15.20//NONSGML v1.0//EN
CALSCALE:GREGORIAN
METHOD:PUBLISH
X-ORIGINAL-URL:https://www.schoenstatt-aachen.de
X-WR-CALDESC:Veranstaltungen für Schönstattzentrum im Bistum Aachen
REFRESH-INTERVAL;VALUE=DURATION:PT1H
X-Robots-Tag:noindex
X-PUBLISHED-TTL:PT1H
BEGIN:VTIMEZONE
TZID:Europe/Berlin
BEGIN:DAYLIGHT
TZOFFSETFROM:+0100
TZOFFSETTO:+0200
TZNAME:CEST
DTSTART:20250330T010000
END:DAYLIGHT
BEGIN:STANDARD
TZOFFSETFROM:+0200
TZOFFSETTO:+0100
TZNAME:CET
DTSTART:20251026T010000
END:STANDARD
BEGIN:DAYLIGHT
TZOFFSETFROM:+0100
TZOFFSETTO:+0200
TZNAME:CEST
DTSTART:20260329T010000
END:DAYLIGHT
BEGIN:STANDARD
TZOFFSETFROM:+0200
TZOFFSETTO:+0100
TZNAME:CET
DTSTART:20261025T010000
END:STANDARD
BEGIN:DAYLIGHT
TZOFFSETFROM:+0100
TZOFFSETTO:+0200
TZNAME:CEST
DTSTART:20270328T010000
END:DAYLIGHT
BEGIN:STANDARD
TZOFFSETFROM:+0200
TZOFFSETTO:+0100
TZNAME:CET
DTSTART:20271031T010000
END:STANDARD
END:VTIMEZONE
BEGIN:VEVENT
DTSTART;TZID=Europe/Berlin:20260408T150000
DTEND;TZID=Europe/Berlin:20260408T170000
DTSTAMP:20260421T140755
CREATED:20260329T104211Z
LAST-MODIFIED:20260329T104212Z
UID:10008040-1775660400-1775667600@www.schoenstatt-aachen.de
SUMMARY:Trauercafé
DESCRIPTION:Ein Mensch\, der uns verlässt\, ist wie eine Sonne\, die versinkt. Aber etwas bleibt immer in unseren Herzen zurück.\nUnabhängig von Weltanschauung\, Nationalität und Lebensform sind alle Trauernden eingeladen. Die Gespräche werden von Fachkräften des Hospizdienstes Baesweiler geführt. \n 
URL:https://www.schoenstatt-aachen.de/veranstaltung/trauercafe-2-2/2026-04-08/
LOCATION:Haus der Begegnung – Schönstattzentrum im Bistum Aachen\, Schönstattstraße 19\, Baesweiler\, 52499\, Deutschland
CATEGORIES:für Jeden
ATTACH;FMTTYPE=image/jpeg:https://www.schoenstatt-aachen.de/wp-content/uploads/2024/11/Unknown-2.jpeg
END:VEVENT
END:VCALENDAR