BEGIN:VCALENDAR
VERSION:2.0
PRODID:-//Schönstattzentrum im Bistum Aachen - ECPv6.15.20//NONSGML v1.0//EN
CALSCALE:GREGORIAN
METHOD:PUBLISH
X-WR-CALNAME:Schönstattzentrum im Bistum Aachen
X-ORIGINAL-URL:https://www.schoenstatt-aachen.de
X-WR-CALDESC:Veranstaltungen für Schönstattzentrum im Bistum Aachen
REFRESH-INTERVAL;VALUE=DURATION:PT1H
X-Robots-Tag:noindex
X-PUBLISHED-TTL:PT1H
BEGIN:VTIMEZONE
TZID:Europe/Berlin
BEGIN:DAYLIGHT
TZOFFSETFROM:+0100
TZOFFSETTO:+0200
TZNAME:CEST
DTSTART:20250330T010000
END:DAYLIGHT
BEGIN:STANDARD
TZOFFSETFROM:+0200
TZOFFSETTO:+0100
TZNAME:CET
DTSTART:20251026T010000
END:STANDARD
BEGIN:DAYLIGHT
TZOFFSETFROM:+0100
TZOFFSETTO:+0200
TZNAME:CEST
DTSTART:20260329T010000
END:DAYLIGHT
BEGIN:STANDARD
TZOFFSETFROM:+0200
TZOFFSETTO:+0100
TZNAME:CET
DTSTART:20261025T010000
END:STANDARD
BEGIN:DAYLIGHT
TZOFFSETFROM:+0100
TZOFFSETTO:+0200
TZNAME:CEST
DTSTART:20270328T010000
END:DAYLIGHT
BEGIN:STANDARD
TZOFFSETFROM:+0200
TZOFFSETTO:+0100
TZNAME:CET
DTSTART:20271031T010000
END:STANDARD
BEGIN:DAYLIGHT
TZOFFSETFROM:+0100
TZOFFSETTO:+0200
TZNAME:CEST
DTSTART:20280326T010000
END:DAYLIGHT
BEGIN:STANDARD
TZOFFSETFROM:+0200
TZOFFSETTO:+0100
TZNAME:CET
DTSTART:20281029T010000
END:STANDARD
END:VTIMEZONE
BEGIN:VEVENT
DTSTART;TZID=Europe/Berlin:20261227T150000
DTEND;TZID=Europe/Berlin:20261227T170000
DTSTAMP:20260423T164513
CREATED:20260102T104206Z
LAST-MODIFIED:20260102T104206Z
UID:10007917-1798383600-1798390800@www.schoenstatt-aachen.de
SUMMARY:Die Tiere an der Krippe
DESCRIPTION:Für Familien aller Generationen \n„Tierische Geschichten“ an der Krippe nacherleben und erfinden \nmit Segnung der Kinder \nWeihnachtstee und Gebäck \n 
URL:https://www.schoenstatt-aachen.de/veranstaltung/die-tiere-an-der-krippe-2/
LOCATION:Haus der Begegnung – Schönstattzentrum im Bistum Aachen\, Schönstattstraße 19\, Baesweiler\, 52499\, Deutschland
CATEGORIES:Familie und EhePaare,für Jeden
ATTACH;FMTTYPE=image/jpeg:https://www.schoenstatt-aachen.de/wp-content/uploads/2020/12/Hirtenkinder.jpg
ORGANIZER;CN="Sch%C3%B6nstatt-Familienbewegung":MAILTO:info@schoenstatt-aachen.de
END:VEVENT
BEGIN:VEVENT
DTSTART;TZID=Europe/Berlin:20261230T160000
DTEND;TZID=Europe/Berlin:20261230T200000
DTSTAMP:20260423T164513
CREATED:20251215T195432Z
LAST-MODIFIED:20260103T182950Z
UID:10004344-1798646400-1798660800@www.schoenstatt-aachen.de
SUMMARY:Jahresausglühen
DESCRIPTION:Gemütliches Zusammensein bei Glühwein\, Kinderpunsch\, Weihnachtsgebäck und Hotdogs. \nSingen von alten und neuen Weihnachtsliedern mit Begleitung durch die Schützenkapelle Hünshoven. \nBesinnliche Impulse  zum Jahreswechsel. \n 
URL:https://www.schoenstatt-aachen.de/veranstaltung/jahresausgluehen-2-2/
LOCATION:Haus der Begegnung – Schönstattzentrum im Bistum Aachen\, Schönstattstraße 19\, Baesweiler\, 52499\, Deutschland
CATEGORIES:für Jeden
ATTACH;FMTTYPE=image/png:https://www.schoenstatt-aachen.de/wp-content/uploads/2024/11/Jahresausgluehen.png
END:VEVENT
BEGIN:VEVENT
DTSTART;TZID=Europe/Berlin:20261230T160000
DTEND;TZID=Europe/Berlin:20270103T150000
DTSTAMP:20260423T164513
CREATED:20260208T152608Z
LAST-MODIFIED:20260208T152608Z
UID:10008131-1798646400-1798988400@www.schoenstatt-aachen.de
SUMMARY:Silvestertagung
DESCRIPTION:In einer noch weihnachtlichen Atmosphäre gemeinsam mit anderen das neue Jahr beginnen
URL:https://www.schoenstatt-aachen.de/veranstaltung/silvestertagung/
LOCATION:Haus der Begegnung – Schönstattzentrum im Bistum Aachen\, Schönstattstraße 19\, Baesweiler\, 52499\, Deutschland
CATEGORIES:für Jeden,Senioren
ATTACH;FMTTYPE=image/jpeg:https://www.schoenstatt-aachen.de/wp-content/uploads/2020/12/05-3-Silvestertagung-scaled.jpg
ORGANIZER;CN="Sch%C3%B6nstatt-Familienbewegung":MAILTO:info@schoenstatt-aachen.de
END:VEVENT
END:VCALENDAR