BEGIN:VCALENDAR
VERSION:2.0
PRODID:-//Schönstattzentrum im Bistum Aachen - ECPv6.15.20//NONSGML v1.0//EN
CALSCALE:GREGORIAN
METHOD:PUBLISH
X-ORIGINAL-URL:https://www.schoenstatt-aachen.de
X-WR-CALDESC:Veranstaltungen für Schönstattzentrum im Bistum Aachen
REFRESH-INTERVAL;VALUE=DURATION:PT1H
X-Robots-Tag:noindex
X-PUBLISHED-TTL:PT1H
BEGIN:VTIMEZONE
TZID:Europe/Berlin
BEGIN:DAYLIGHT
TZOFFSETFROM:+0100
TZOFFSETTO:+0200
TZNAME:CEST
DTSTART:20250330T010000
END:DAYLIGHT
BEGIN:STANDARD
TZOFFSETFROM:+0200
TZOFFSETTO:+0100
TZNAME:CET
DTSTART:20251026T010000
END:STANDARD
BEGIN:DAYLIGHT
TZOFFSETFROM:+0100
TZOFFSETTO:+0200
TZNAME:CEST
DTSTART:20260329T010000
END:DAYLIGHT
BEGIN:STANDARD
TZOFFSETFROM:+0200
TZOFFSETTO:+0100
TZNAME:CET
DTSTART:20261025T010000
END:STANDARD
BEGIN:DAYLIGHT
TZOFFSETFROM:+0100
TZOFFSETTO:+0200
TZNAME:CEST
DTSTART:20270328T010000
END:DAYLIGHT
BEGIN:STANDARD
TZOFFSETFROM:+0200
TZOFFSETTO:+0100
TZNAME:CET
DTSTART:20271031T010000
END:STANDARD
END:VTIMEZONE
BEGIN:VEVENT
DTSTART;TZID=Europe/Berlin:20260419T150000
DTEND;TZID=Europe/Berlin:20260419T153000
DTSTAMP:20260420T171925
CREATED:20260329T155131Z
LAST-MODIFIED:20260329T155131Z
UID:10008116-1776610800-1776612600@www.schoenstatt-aachen.de
SUMMARY:Sonntagsandacht
DESCRIPTION:Gott danken für das Wirken Marias an diesem Ort.\nDas Bündnis mit Maria feiern und ihr unseren Beitrag bringen.\nanschließend Einladung in die Cafeteria
URL:https://www.schoenstatt-aachen.de/veranstaltung/sonntagsandacht-2/2026-04-19/
LOCATION:Missio-Patris-Heiligtum am Schönstattzentrum\, Schönstattstraße 19\, Baesweiler\, 52499\, Deutschland
CATEGORIES:Beten und Feiern
ATTACH;FMTTYPE=image/jpeg:https://www.schoenstatt-aachen.de/wp-content/uploads/2026/02/04-Sonntagsandacht-Foto-A-scaled.jpg
END:VEVENT
BEGIN:VEVENT
DTSTART;TZID=Europe/Berlin:20260413T193000
DTEND;TZID=Europe/Berlin:20260413T203000
DTSTAMP:20260420T171925
CREATED:20260329T101914Z
LAST-MODIFIED:20260329T101915Z
UID:10008171-1776108600-1776112200@www.schoenstatt-aachen.de
SUMMARY:Rosenkranz für den Frieden
DESCRIPTION:„Wir wollen den Rosenkranz nicht allein mit unseren Lippen\, sondern mit dem Herzen beten.“    \nPater Josef Kentenich
URL:https://www.schoenstatt-aachen.de/veranstaltung/rosenkranz-fuer-den-frieden-2/
LOCATION:Missio-Patris-Heiligtum am Schönstattzentrum\, Schönstattstraße 19\, Baesweiler\, 52499\, Deutschland
CATEGORIES:Beten und Feiern
ATTACH;FMTTYPE=image/png:https://www.schoenstatt-aachen.de/wp-content/uploads/2026/02/01-Rosenkranz-fuer-den-Frieden-Foto-A-2.png
END:VEVENT
BEGIN:VEVENT
DTSTART;TZID=Europe/Berlin:20260410T190000
DTEND;TZID=Europe/Berlin:20260410T200000
DTSTAMP:20260420T171925
CREATED:20260329T102219Z
LAST-MODIFIED:20260329T154237Z
UID:10008161-1775847600-1775851200@www.schoenstatt-aachen.de
SUMMARY:Eucharistische Anbetung
DESCRIPTION:„Kommt alle zu mir\, die ihr mühselig und beladen seid! Ich will Eich erquicken.“\nMatthäus 11\,28 \nEs ist auch möglich nur eine kurze Zeit dabei zu sein.
URL:https://www.schoenstatt-aachen.de/veranstaltung/eucharistische-anbetung-2/2026-04-10/
LOCATION:Missio-Patris-Heiligtum am Schönstattzentrum\, Schönstattstraße 19\, Baesweiler\, 52499\, Deutschland
CATEGORIES:Beten und Feiern
ATTACH;FMTTYPE=image/jpeg:https://www.schoenstatt-aachen.de/wp-content/uploads/2026/02/02-Eucharistische-Anbetung-Foto-A.jpg
END:VEVENT
BEGIN:VEVENT
DTSTART;TZID=Europe/Berlin:20260329T175100
DTEND;TZID=Europe/Berlin:20260329T175100
DTSTAMP:20260420T171925
CREATED:20260329T155131Z
LAST-MODIFIED:20260329T155131Z
UID:10008225-1774806660-1774806660@www.schoenstatt-aachen.de
SUMMARY:Sonntagsandacht
DESCRIPTION:Gott danken für das Wirken Marias an diesem Ort.\nDas Bündnis mit Maria feiern und ihr unseren Beitrag bringen.\nanschließend Einladung in die Cafeteria
URL:https://www.schoenstatt-aachen.de/veranstaltung/sonntagsandacht-2/2026-03-29/
LOCATION:Missio-Patris-Heiligtum am Schönstattzentrum\, Schönstattstraße 19\, Baesweiler\, 52499\, Deutschland
CATEGORIES:Beten und Feiern
ATTACH;FMTTYPE=image/jpeg:https://www.schoenstatt-aachen.de/wp-content/uploads/2026/02/04-Sonntagsandacht-Foto-A-scaled.jpg
END:VEVENT
BEGIN:VEVENT
DTSTART;TZID=Europe/Berlin:20260316T180000
DTEND;TZID=Europe/Berlin:20260316T190000
DTSTAMP:20260420T171925
CREATED:20260329T150750Z
LAST-MODIFIED:20260329T150750Z
UID:10008183-1773684000-1773687600@www.schoenstatt-aachen.de
SUMMARY:Heilige Messe
DESCRIPTION:„Tut dies zu meinem Gedächtnis.“\nGelegenheit zur Beichte auf Anfrage
URL:https://www.schoenstatt-aachen.de/veranstaltung/heilige-messe-2-2/
LOCATION:Missio-Patris-Heiligtum am Schönstattzentrum\, Schönstattstraße 19\, Baesweiler\, 52499\, Deutschland
CATEGORIES:Beten und Feiern
ATTACH;FMTTYPE=image/jpeg:https://www.schoenstatt-aachen.de/wp-content/uploads/2026/02/03-Heilige-Messe-Foto.jpg
END:VEVENT
BEGIN:VEVENT
DTSTART;TZID=Europe/Berlin:20260302T193000
DTEND;TZID=Europe/Berlin:20260302T203000
DTSTAMP:20260420T171925
CREATED:20260329T103210Z
LAST-MODIFIED:20260329T103211Z
UID:10008141-1772479800-1772483400@www.schoenstatt-aachen.de
SUMMARY:Rosenkranz für den Frieden
DESCRIPTION:„Wir wollen den Rosenkranz nicht allein mit unseren Lippen\, sondern mit dem Herzen beten.“    \nPater Josef Kentenich
URL:https://www.schoenstatt-aachen.de/veranstaltung/rosenkranz-fuer-den-frieden-2-2/2026-03-02/
LOCATION:Missio-Patris-Heiligtum am Schönstattzentrum\, Schönstattstraße 19\, Baesweiler\, 52499\, Deutschland
CATEGORIES:Beten und Feiern
ATTACH;FMTTYPE=image/png:https://www.schoenstatt-aachen.de/wp-content/uploads/2026/02/01-Rosenkranz-fuer-den-Frieden-Foto-A-2.png
END:VEVENT
BEGIN:VEVENT
DTSTART;TZID=Europe/Berlin:20260202T193000
DTEND;TZID=Europe/Berlin:20260202T203000
DTSTAMP:20260420T171925
CREATED:20260208T140810Z
LAST-MODIFIED:20260208T140810Z
UID:10008076-1770060600-1770064200@www.schoenstatt-aachen.de
SUMMARY:Rosenkranz für den Frieden
DESCRIPTION:„Wo zwei oder in meinem Namen versammelt sind\, da bin ich mitten unter ihnen.“ \n 
URL:https://www.schoenstatt-aachen.de/veranstaltung/rosenkranz-fuer-den-frieden/2026-02-02/
LOCATION:Missio-Patris-Heiligtum am Schönstattzentrum\, Schönstattstraße 19\, Baesweiler\, 52499\, Deutschland
CATEGORIES:Beten und Feiern
ATTACH;FMTTYPE=image/jpeg:https://www.schoenstatt-aachen.de/wp-content/uploads/2024/12/01-Rosenkranz-fuer-den-Frieden-Foto-A-1.jpg
END:VEVENT
END:VCALENDAR