BEGIN:VCALENDAR
VERSION:2.0
PRODID:-//Schönstattzentrum im Bistum Aachen - ECPv6.15.20//NONSGML v1.0//EN
CALSCALE:GREGORIAN
METHOD:PUBLISH
X-WR-CALNAME:Schönstattzentrum im Bistum Aachen
X-ORIGINAL-URL:https://www.schoenstatt-aachen.de
X-WR-CALDESC:Veranstaltungen für Schönstattzentrum im Bistum Aachen
REFRESH-INTERVAL;VALUE=DURATION:PT1H
X-Robots-Tag:noindex
X-PUBLISHED-TTL:PT1H
BEGIN:VTIMEZONE
TZID:Europe/Berlin
BEGIN:DAYLIGHT
TZOFFSETFROM:+0100
TZOFFSETTO:+0200
TZNAME:CEST
DTSTART:20250330T010000
END:DAYLIGHT
BEGIN:STANDARD
TZOFFSETFROM:+0200
TZOFFSETTO:+0100
TZNAME:CET
DTSTART:20251026T010000
END:STANDARD
BEGIN:DAYLIGHT
TZOFFSETFROM:+0100
TZOFFSETTO:+0200
TZNAME:CEST
DTSTART:20260329T010000
END:DAYLIGHT
BEGIN:STANDARD
TZOFFSETFROM:+0200
TZOFFSETTO:+0100
TZNAME:CET
DTSTART:20261025T010000
END:STANDARD
BEGIN:DAYLIGHT
TZOFFSETFROM:+0100
TZOFFSETTO:+0200
TZNAME:CEST
DTSTART:20270328T010000
END:DAYLIGHT
BEGIN:STANDARD
TZOFFSETFROM:+0200
TZOFFSETTO:+0100
TZNAME:CET
DTSTART:20271031T010000
END:STANDARD
END:VTIMEZONE
BEGIN:VEVENT
DTSTART;TZID=Europe/Berlin:20261123T133000
DTEND;TZID=Europe/Berlin:20261123T180000
DTSTAMP:20260420T161434
CREATED:20260103T180438Z
LAST-MODIFIED:20260103T180438Z
UID:10007962-1795440600-1795456800@www.schoenstatt-aachen.de
SUMMARY:Tage religiöser Orientierung im Advent
DESCRIPTION:Weihnachten tiefer erleben – das beginnt mit der Vorbereitung auf das Fest
URL:https://www.schoenstatt-aachen.de/veranstaltung/tage-religioeser-orientierung-im-advent/2026-11-23/
LOCATION:Haus der Begegnung – Schönstattzentrum im Bistum Aachen\, Schönstattstraße 19\, Baesweiler\, 52499\, Deutschland
CATEGORIES:für Jeden
ATTACH;FMTTYPE=image/jpeg:https://www.schoenstatt-aachen.de/wp-content/uploads/2024/11/advent-2996627_1280.jpg
END:VEVENT
BEGIN:VEVENT
DTSTART;TZID=Europe/Berlin:20261124T100000
DTEND;TZID=Europe/Berlin:20261124T163000
DTSTAMP:20260420T161434
CREATED:20260103T180438Z
LAST-MODIFIED:20260103T180438Z
UID:10007963-1795514400-1795537800@www.schoenstatt-aachen.de
SUMMARY:Tage religiöser Orientierung im Advent
DESCRIPTION:Weihnachten tiefer erleben – das beginnt mit der Vorbereitung auf das Fest
URL:https://www.schoenstatt-aachen.de/veranstaltung/tage-religioeser-orientierung-im-advent/2026-11-24/
LOCATION:Haus der Begegnung – Schönstattzentrum im Bistum Aachen\, Schönstattstraße 19\, Baesweiler\, 52499\, Deutschland
CATEGORIES:für Jeden
ATTACH;FMTTYPE=image/jpeg:https://www.schoenstatt-aachen.de/wp-content/uploads/2024/11/advent-2996627_1280.jpg
END:VEVENT
END:VCALENDAR