BEGIN:VCALENDAR
VERSION:2.0
PRODID:-//Schönstattzentrum im Bistum Aachen - ECPv6.15.20//NONSGML v1.0//EN
CALSCALE:GREGORIAN
METHOD:PUBLISH
X-WR-CALNAME:Schönstattzentrum im Bistum Aachen
X-ORIGINAL-URL:https://www.schoenstatt-aachen.de
X-WR-CALDESC:Veranstaltungen für Schönstattzentrum im Bistum Aachen
REFRESH-INTERVAL;VALUE=DURATION:PT1H
X-Robots-Tag:noindex
X-PUBLISHED-TTL:PT1H
BEGIN:VTIMEZONE
TZID:Europe/Berlin
BEGIN:DAYLIGHT
TZOFFSETFROM:+0100
TZOFFSETTO:+0200
TZNAME:CEST
DTSTART:20250330T010000
END:DAYLIGHT
BEGIN:STANDARD
TZOFFSETFROM:+0200
TZOFFSETTO:+0100
TZNAME:CET
DTSTART:20251026T010000
END:STANDARD
BEGIN:DAYLIGHT
TZOFFSETFROM:+0100
TZOFFSETTO:+0200
TZNAME:CEST
DTSTART:20260329T010000
END:DAYLIGHT
BEGIN:STANDARD
TZOFFSETFROM:+0200
TZOFFSETTO:+0100
TZNAME:CET
DTSTART:20261025T010000
END:STANDARD
BEGIN:DAYLIGHT
TZOFFSETFROM:+0100
TZOFFSETTO:+0200
TZNAME:CEST
DTSTART:20270328T010000
END:DAYLIGHT
BEGIN:STANDARD
TZOFFSETFROM:+0200
TZOFFSETTO:+0100
TZNAME:CET
DTSTART:20271031T010000
END:STANDARD
END:VTIMEZONE
BEGIN:VEVENT
DTSTART;TZID=Europe/Berlin:20260517T150000
DTEND;TZID=Europe/Berlin:20260517T153000
DTSTAMP:20260420T161459
CREATED:20260104T095307Z
LAST-MODIFIED:20260104T095307Z
UID:10008022-1779030000-1779031800@www.schoenstatt-aachen.de
SUMMARY:Sonntagsandacht im Mai
DESCRIPTION:Maria\, wenn wir die Krüge füllen … \nmit verbrennen der Krugpost \nnach der Andacht herzliche Einladung in die Cafeteria \nAuch Kinder sind herzlich willkommen!
URL:https://www.schoenstatt-aachen.de/veranstaltung/sonntagsandacht-im-mai-2/
LOCATION:Missio-Patris-Heiligtum am Schönstattzentrum\, Schönstattstraße 19\, Baesweiler\, 52499\, Deutschland
CATEGORIES:Beten und Feiern
ATTACH;FMTTYPE=image/jpeg:https://www.schoenstatt-aachen.de/wp-content/uploads/2022/12/05-Pfingstfeuer.jpg
END:VEVENT
END:VCALENDAR