BEGIN:VCALENDAR
VERSION:2.0
PRODID:-//Schönstattzentrum im Bistum Aachen - ECPv6.15.20//NONSGML v1.0//EN
CALSCALE:GREGORIAN
METHOD:PUBLISH
X-WR-CALNAME:Schönstattzentrum im Bistum Aachen
X-ORIGINAL-URL:https://www.schoenstatt-aachen.de
X-WR-CALDESC:Veranstaltungen für Schönstattzentrum im Bistum Aachen
REFRESH-INTERVAL;VALUE=DURATION:PT1H
X-Robots-Tag:noindex
X-PUBLISHED-TTL:PT1H
BEGIN:VTIMEZONE
TZID:Europe/Berlin
BEGIN:DAYLIGHT
TZOFFSETFROM:+0100
TZOFFSETTO:+0200
TZNAME:CEST
DTSTART:20250330T010000
END:DAYLIGHT
BEGIN:STANDARD
TZOFFSETFROM:+0200
TZOFFSETTO:+0100
TZNAME:CET
DTSTART:20251026T010000
END:STANDARD
BEGIN:DAYLIGHT
TZOFFSETFROM:+0100
TZOFFSETTO:+0200
TZNAME:CEST
DTSTART:20260329T010000
END:DAYLIGHT
BEGIN:STANDARD
TZOFFSETFROM:+0200
TZOFFSETTO:+0100
TZNAME:CET
DTSTART:20261025T010000
END:STANDARD
BEGIN:DAYLIGHT
TZOFFSETFROM:+0100
TZOFFSETTO:+0200
TZNAME:CEST
DTSTART:20270328T010000
END:DAYLIGHT
BEGIN:STANDARD
TZOFFSETFROM:+0200
TZOFFSETTO:+0100
TZNAME:CET
DTSTART:20271031T010000
END:STANDARD
END:VTIMEZONE
BEGIN:VEVENT
DTSTART;TZID=Europe/Berlin:20260501T190000
DTEND;TZID=Europe/Berlin:20260501T200000
DTSTAMP:20260421T131413
CREATED:20260329T102219Z
LAST-MODIFIED:20260329T154237Z
UID:10008210-1777662000-1777665600@www.schoenstatt-aachen.de
SUMMARY:Eucharistische Anbetung
DESCRIPTION:„Kommt alle zu mir\, die ihr mühselig und beladen seid! Ich will Eich erquicken.“\nMatthäus 11\,28 \nEs ist auch möglich nur eine kurze Zeit dabei zu sein.
URL:https://www.schoenstatt-aachen.de/veranstaltung/eucharistische-anbetung-2/2026-05-01/
LOCATION:Missio-Patris-Heiligtum am Schönstattzentrum\, Schönstattstraße 19\, Baesweiler\, 52499\, Deutschland
CATEGORIES:Beten und Feiern
ATTACH;FMTTYPE=image/jpeg:https://www.schoenstatt-aachen.de/wp-content/uploads/2026/02/02-Eucharistische-Anbetung-Foto-A.jpg
END:VEVENT
BEGIN:VEVENT
DTSTART;TZID=Europe/Berlin:20260605T190000
DTEND;TZID=Europe/Berlin:20260605T200000
DTSTAMP:20260421T131413
CREATED:20260329T102219Z
LAST-MODIFIED:20260329T154237Z
UID:10008211-1780686000-1780689600@www.schoenstatt-aachen.de
SUMMARY:Eucharistische Anbetung
DESCRIPTION:„Kommt alle zu mir\, die ihr mühselig und beladen seid! Ich will Eich erquicken.“\nMatthäus 11\,28 \nEs ist auch möglich nur eine kurze Zeit dabei zu sein.
URL:https://www.schoenstatt-aachen.de/veranstaltung/eucharistische-anbetung-2/2026-06-05/
LOCATION:Missio-Patris-Heiligtum am Schönstattzentrum\, Schönstattstraße 19\, Baesweiler\, 52499\, Deutschland
CATEGORIES:Beten und Feiern
ATTACH;FMTTYPE=image/jpeg:https://www.schoenstatt-aachen.de/wp-content/uploads/2026/02/02-Eucharistische-Anbetung-Foto-A.jpg
END:VEVENT
BEGIN:VEVENT
DTSTART;TZID=Europe/Berlin:20260703T190000
DTEND;TZID=Europe/Berlin:20260703T200000
DTSTAMP:20260421T131413
CREATED:20260329T102219Z
LAST-MODIFIED:20260329T154237Z
UID:10008212-1783105200-1783108800@www.schoenstatt-aachen.de
SUMMARY:Eucharistische Anbetung
DESCRIPTION:„Kommt alle zu mir\, die ihr mühselig und beladen seid! Ich will Eich erquicken.“\nMatthäus 11\,28 \nEs ist auch möglich nur eine kurze Zeit dabei zu sein.
URL:https://www.schoenstatt-aachen.de/veranstaltung/eucharistische-anbetung-2/2026-07-03/
LOCATION:Missio-Patris-Heiligtum am Schönstattzentrum\, Schönstattstraße 19\, Baesweiler\, 52499\, Deutschland
CATEGORIES:Beten und Feiern
ATTACH;FMTTYPE=image/jpeg:https://www.schoenstatt-aachen.de/wp-content/uploads/2026/02/02-Eucharistische-Anbetung-Foto-A.jpg
END:VEVENT
BEGIN:VEVENT
DTSTART;TZID=Europe/Berlin:20260807T190000
DTEND;TZID=Europe/Berlin:20260807T200000
DTSTAMP:20260421T131413
CREATED:20260329T102219Z
LAST-MODIFIED:20260329T154237Z
UID:10008213-1786129200-1786132800@www.schoenstatt-aachen.de
SUMMARY:Eucharistische Anbetung
DESCRIPTION:„Kommt alle zu mir\, die ihr mühselig und beladen seid! Ich will Eich erquicken.“\nMatthäus 11\,28 \nEs ist auch möglich nur eine kurze Zeit dabei zu sein.
URL:https://www.schoenstatt-aachen.de/veranstaltung/eucharistische-anbetung-2/2026-08-07/
LOCATION:Missio-Patris-Heiligtum am Schönstattzentrum\, Schönstattstraße 19\, Baesweiler\, 52499\, Deutschland
CATEGORIES:Beten und Feiern
ATTACH;FMTTYPE=image/jpeg:https://www.schoenstatt-aachen.de/wp-content/uploads/2026/02/02-Eucharistische-Anbetung-Foto-A.jpg
END:VEVENT
BEGIN:VEVENT
DTSTART;TZID=Europe/Berlin:20260904T190000
DTEND;TZID=Europe/Berlin:20260904T200000
DTSTAMP:20260421T131413
CREATED:20260329T102219Z
LAST-MODIFIED:20260329T154237Z
UID:10008214-1788548400-1788552000@www.schoenstatt-aachen.de
SUMMARY:Eucharistische Anbetung
DESCRIPTION:„Kommt alle zu mir\, die ihr mühselig und beladen seid! Ich will Eich erquicken.“\nMatthäus 11\,28 \nEs ist auch möglich nur eine kurze Zeit dabei zu sein.
URL:https://www.schoenstatt-aachen.de/veranstaltung/eucharistische-anbetung-2/2026-09-04/
LOCATION:Missio-Patris-Heiligtum am Schönstattzentrum\, Schönstattstraße 19\, Baesweiler\, 52499\, Deutschland
CATEGORIES:Beten und Feiern
ATTACH;FMTTYPE=image/jpeg:https://www.schoenstatt-aachen.de/wp-content/uploads/2026/02/02-Eucharistische-Anbetung-Foto-A.jpg
END:VEVENT
BEGIN:VEVENT
DTSTART;TZID=Europe/Berlin:20261002T190000
DTEND;TZID=Europe/Berlin:20261002T200000
DTSTAMP:20260421T131413
CREATED:20260329T102219Z
LAST-MODIFIED:20260329T154237Z
UID:10008215-1790967600-1790971200@www.schoenstatt-aachen.de
SUMMARY:Eucharistische Anbetung
DESCRIPTION:„Kommt alle zu mir\, die ihr mühselig und beladen seid! Ich will Eich erquicken.“\nMatthäus 11\,28 \nEs ist auch möglich nur eine kurze Zeit dabei zu sein.
URL:https://www.schoenstatt-aachen.de/veranstaltung/eucharistische-anbetung-2/2026-10-02/
LOCATION:Missio-Patris-Heiligtum am Schönstattzentrum\, Schönstattstraße 19\, Baesweiler\, 52499\, Deutschland
CATEGORIES:Beten und Feiern
ATTACH;FMTTYPE=image/jpeg:https://www.schoenstatt-aachen.de/wp-content/uploads/2026/02/02-Eucharistische-Anbetung-Foto-A.jpg
END:VEVENT
BEGIN:VEVENT
DTSTART;TZID=Europe/Berlin:20261106T190000
DTEND;TZID=Europe/Berlin:20261106T200000
DTSTAMP:20260421T131413
CREATED:20260329T102219Z
LAST-MODIFIED:20260329T154237Z
UID:10008216-1793991600-1793995200@www.schoenstatt-aachen.de
SUMMARY:Eucharistische Anbetung
DESCRIPTION:„Kommt alle zu mir\, die ihr mühselig und beladen seid! Ich will Eich erquicken.“\nMatthäus 11\,28 \nEs ist auch möglich nur eine kurze Zeit dabei zu sein.
URL:https://www.schoenstatt-aachen.de/veranstaltung/eucharistische-anbetung-2/2026-11-06/
LOCATION:Missio-Patris-Heiligtum am Schönstattzentrum\, Schönstattstraße 19\, Baesweiler\, 52499\, Deutschland
CATEGORIES:Beten und Feiern
ATTACH;FMTTYPE=image/jpeg:https://www.schoenstatt-aachen.de/wp-content/uploads/2026/02/02-Eucharistische-Anbetung-Foto-A.jpg
END:VEVENT
BEGIN:VEVENT
DTSTART;TZID=Europe/Berlin:20261204T190000
DTEND;TZID=Europe/Berlin:20261204T200000
DTSTAMP:20260421T131413
CREATED:20260329T102219Z
LAST-MODIFIED:20260329T154237Z
UID:10008217-1796410800-1796414400@www.schoenstatt-aachen.de
SUMMARY:Eucharistische Anbetung
DESCRIPTION:„Kommt alle zu mir\, die ihr mühselig und beladen seid! Ich will Eich erquicken.“\nMatthäus 11\,28 \nEs ist auch möglich nur eine kurze Zeit dabei zu sein.
URL:https://www.schoenstatt-aachen.de/veranstaltung/eucharistische-anbetung-2/2026-12-04/
LOCATION:Missio-Patris-Heiligtum am Schönstattzentrum\, Schönstattstraße 19\, Baesweiler\, 52499\, Deutschland
CATEGORIES:Beten und Feiern
ATTACH;FMTTYPE=image/jpeg:https://www.schoenstatt-aachen.de/wp-content/uploads/2026/02/02-Eucharistische-Anbetung-Foto-A.jpg
END:VEVENT
END:VCALENDAR