BEGIN:VCALENDAR
VERSION:2.0
PRODID:-//Schönstattzentrum im Bistum Aachen - ECPv6.15.20//NONSGML v1.0//EN
CALSCALE:GREGORIAN
METHOD:PUBLISH
X-ORIGINAL-URL:https://www.schoenstatt-aachen.de
X-WR-CALDESC:Veranstaltungen für Schönstattzentrum im Bistum Aachen
REFRESH-INTERVAL;VALUE=DURATION:PT1H
X-Robots-Tag:noindex
X-PUBLISHED-TTL:PT1H
BEGIN:VTIMEZONE
TZID:Europe/Berlin
BEGIN:DAYLIGHT
TZOFFSETFROM:+0100
TZOFFSETTO:+0200
TZNAME:CEST
DTSTART:20250330T010000
END:DAYLIGHT
BEGIN:STANDARD
TZOFFSETFROM:+0200
TZOFFSETTO:+0100
TZNAME:CET
DTSTART:20251026T010000
END:STANDARD
BEGIN:DAYLIGHT
TZOFFSETFROM:+0100
TZOFFSETTO:+0200
TZNAME:CEST
DTSTART:20260329T010000
END:DAYLIGHT
BEGIN:STANDARD
TZOFFSETFROM:+0200
TZOFFSETTO:+0100
TZNAME:CET
DTSTART:20261025T010000
END:STANDARD
BEGIN:DAYLIGHT
TZOFFSETFROM:+0100
TZOFFSETTO:+0200
TZNAME:CEST
DTSTART:20270328T010000
END:DAYLIGHT
BEGIN:STANDARD
TZOFFSETFROM:+0200
TZOFFSETTO:+0100
TZNAME:CET
DTSTART:20271031T010000
END:STANDARD
END:VTIMEZONE
BEGIN:VEVENT
DTSTART;TZID=Europe/Berlin:20260703T190000
DTEND;TZID=Europe/Berlin:20260703T200000
DTSTAMP:20260424T135934
CREATED:20260329T102219Z
LAST-MODIFIED:20260329T154237Z
UID:10008212-1783105200-1783108800@www.schoenstatt-aachen.de
SUMMARY:Eucharistische Anbetung
DESCRIPTION:„Kommt alle zu mir\, die ihr mühselig und beladen seid! Ich will Eich erquicken.“\nMatthäus 11\,28 \nEs ist auch möglich nur eine kurze Zeit dabei zu sein.
URL:https://www.schoenstatt-aachen.de/veranstaltung/eucharistische-anbetung-2/2026-07-03/
LOCATION:Missio-Patris-Heiligtum am Schönstattzentrum\, Schönstattstraße 19\, Baesweiler\, 52499\, Deutschland
CATEGORIES:Beten und Feiern
ATTACH;FMTTYPE=image/jpeg:https://www.schoenstatt-aachen.de/wp-content/uploads/2026/02/02-Eucharistische-Anbetung-Foto-A.jpg
END:VEVENT
BEGIN:VEVENT
DTSTART;TZID=Europe/Berlin:20260706T193000
DTEND;TZID=Europe/Berlin:20260706T203000
DTSTAMP:20260424T135934
CREATED:20260329T103210Z
LAST-MODIFIED:20260329T103211Z
UID:10008165-1783366200-1783369800@www.schoenstatt-aachen.de
SUMMARY:Rosenkranz für den Frieden
DESCRIPTION:„Wir wollen den Rosenkranz nicht allein mit unseren Lippen\, sondern mit dem Herzen beten.“    \nPater Josef Kentenich
URL:https://www.schoenstatt-aachen.de/veranstaltung/rosenkranz-fuer-den-frieden-2-2/2026-07-06/
LOCATION:Missio-Patris-Heiligtum am Schönstattzentrum\, Schönstattstraße 19\, Baesweiler\, 52499\, Deutschland
CATEGORIES:Beten und Feiern
ATTACH;FMTTYPE=image/png:https://www.schoenstatt-aachen.de/wp-content/uploads/2026/02/01-Rosenkranz-fuer-den-Frieden-Foto-A-2.png
END:VEVENT
BEGIN:VEVENT
DTSTART;TZID=Europe/Berlin:20260707T090000
DTEND;TZID=Europe/Berlin:20260707T113000
DTSTAMP:20260424T135934
CREATED:20260330T164805Z
LAST-MODIFIED:20260330T164805Z
UID:10008231-1783414800-1783423800@www.schoenstatt-aachen.de
SUMMARY:Seniorenfrühstück
DESCRIPTION:Gemeinsames Frühstück – Begegnung – Impuls – Abschluss im Heiligtum
URL:https://www.schoenstatt-aachen.de/veranstaltung/seniorenfruehstueck-4/2026-07-07/
LOCATION:Haus der Begegnung – Schönstattzentrum im Bistum Aachen\, Schönstattstraße 19\, Baesweiler\, 52499\, Deutschland
CATEGORIES:Senioren
ATTACH;FMTTYPE=image/jpeg:https://www.schoenstatt-aachen.de/wp-content/uploads/2026/03/07-Seniorenfruehstueck-Foto-A.jpg
END:VEVENT
BEGIN:VEVENT
DTSTART;TZID=Europe/Berlin:20260708T190000
DTEND;TZID=Europe/Berlin:20260708T210000
DTSTAMP:20260424T135934
CREATED:20260329T152256Z
LAST-MODIFIED:20260329T152949Z
UID:10008202-1783537200-1783544400@www.schoenstatt-aachen.de
SUMMARY:Glaubensseminar
DESCRIPTION:Unglaublich was wir glauben!\nAn jedem Abend ein anderes Wort unseres Glaubensbekenntnisses im Gespräch miteinander neu aufstrahlen lassen. \nIch glaube … Jesus Christus … gestorben
URL:https://www.schoenstatt-aachen.de/veranstaltung/glaubensseminar-fuer-erwachsene-3-2/2026-07-08/
LOCATION:Haus der Begegnung – Schönstattzentrum im Bistum Aachen\, Schönstattstraße 19\, Baesweiler\, 52499\, Deutschland
CATEGORIES:für Jeden
ATTACH;FMTTYPE=image/jpeg:https://www.schoenstatt-aachen.de/wp-content/uploads/2026/02/10-Glaubensseminar-Foto-A.jpg
END:VEVENT
BEGIN:VEVENT
DTSTART;TZID=Europe/Berlin:20260720T180000
DTEND;TZID=Europe/Berlin:20260720T190000
DTSTAMP:20260424T135934
CREATED:20260329T151313Z
LAST-MODIFIED:20260329T151313Z
UID:10008189-1784570400-1784574000@www.schoenstatt-aachen.de
SUMMARY:Heilige Messe
DESCRIPTION:„Tut dies zu meinem Gedächtnis.“\nGelegenheit zur Beichte auf Anfrage
URL:https://www.schoenstatt-aachen.de/veranstaltung/heilige-messe-2-6/
LOCATION:Missio-Patris-Heiligtum am Schönstattzentrum\, Schönstattstraße 19\, Baesweiler\, 52499\, Deutschland
CATEGORIES:Beten und Feiern
ATTACH;FMTTYPE=image/jpeg:https://www.schoenstatt-aachen.de/wp-content/uploads/2026/02/03-Heilige-Messe-Foto.jpg
END:VEVENT
END:VCALENDAR