BEGIN:VCALENDAR
VERSION:2.0
PRODID:-//Schönstattzentrum im Bistum Aachen - ECPv6.15.20//NONSGML v1.0//EN
CALSCALE:GREGORIAN
METHOD:PUBLISH
X-WR-CALNAME:Schönstattzentrum im Bistum Aachen
X-ORIGINAL-URL:https://www.schoenstatt-aachen.de
X-WR-CALDESC:Veranstaltungen für Schönstattzentrum im Bistum Aachen
REFRESH-INTERVAL;VALUE=DURATION:PT1H
X-Robots-Tag:noindex
X-PUBLISHED-TTL:PT1H
BEGIN:VTIMEZONE
TZID:Europe/Berlin
BEGIN:DAYLIGHT
TZOFFSETFROM:+0100
TZOFFSETTO:+0200
TZNAME:CEST
DTSTART:20250330T010000
END:DAYLIGHT
BEGIN:STANDARD
TZOFFSETFROM:+0200
TZOFFSETTO:+0100
TZNAME:CET
DTSTART:20251026T010000
END:STANDARD
BEGIN:DAYLIGHT
TZOFFSETFROM:+0100
TZOFFSETTO:+0200
TZNAME:CEST
DTSTART:20260329T010000
END:DAYLIGHT
BEGIN:STANDARD
TZOFFSETFROM:+0200
TZOFFSETTO:+0100
TZNAME:CET
DTSTART:20261025T010000
END:STANDARD
BEGIN:DAYLIGHT
TZOFFSETFROM:+0100
TZOFFSETTO:+0200
TZNAME:CEST
DTSTART:20270328T010000
END:DAYLIGHT
BEGIN:STANDARD
TZOFFSETFROM:+0200
TZOFFSETTO:+0100
TZNAME:CET
DTSTART:20271031T010000
END:STANDARD
END:VTIMEZONE
BEGIN:VEVENT
DTSTART;TZID=Europe/Berlin:20260904T190000
DTEND;TZID=Europe/Berlin:20260904T200000
DTSTAMP:20260424T175629
CREATED:20260329T102219Z
LAST-MODIFIED:20260329T154237Z
UID:10008214-1788548400-1788552000@www.schoenstatt-aachen.de
SUMMARY:Eucharistische Anbetung
DESCRIPTION:„Kommt alle zu mir\, die ihr mühselig und beladen seid! Ich will Eich erquicken.“\nMatthäus 11\,28 \nEs ist auch möglich nur eine kurze Zeit dabei zu sein.
URL:https://www.schoenstatt-aachen.de/veranstaltung/eucharistische-anbetung-2/2026-09-04/
LOCATION:Missio-Patris-Heiligtum am Schönstattzentrum\, Schönstattstraße 19\, Baesweiler\, 52499\, Deutschland
CATEGORIES:Beten und Feiern
ATTACH;FMTTYPE=image/jpeg:https://www.schoenstatt-aachen.de/wp-content/uploads/2026/02/02-Eucharistische-Anbetung-Foto-A.jpg
END:VEVENT
BEGIN:VEVENT
DTSTART;TZID=Europe/Berlin:20260907T193000
DTEND;TZID=Europe/Berlin:20260907T203000
DTSTAMP:20260424T175629
CREATED:20260329T103210Z
LAST-MODIFIED:20260329T103211Z
UID:10008167-1788809400-1788813000@www.schoenstatt-aachen.de
SUMMARY:Rosenkranz für den Frieden
DESCRIPTION:„Wir wollen den Rosenkranz nicht allein mit unseren Lippen\, sondern mit dem Herzen beten.“    \nPater Josef Kentenich
URL:https://www.schoenstatt-aachen.de/veranstaltung/rosenkranz-fuer-den-frieden-2-2/2026-09-07/
LOCATION:Missio-Patris-Heiligtum am Schönstattzentrum\, Schönstattstraße 19\, Baesweiler\, 52499\, Deutschland
CATEGORIES:Beten und Feiern
ATTACH;FMTTYPE=image/png:https://www.schoenstatt-aachen.de/wp-content/uploads/2026/02/01-Rosenkranz-fuer-den-Frieden-Foto-A-2.png
END:VEVENT
BEGIN:VEVENT
DTSTART;TZID=Europe/Berlin:20260909T150000
DTEND;TZID=Europe/Berlin:20260909T170000
DTSTAMP:20260424T175629
CREATED:20260329T104211Z
LAST-MODIFIED:20260329T104212Z
UID:10008045-1788966000-1788973200@www.schoenstatt-aachen.de
SUMMARY:Trauercafé
DESCRIPTION:Ein Mensch\, der uns verlässt\, ist wie eine Sonne\, die versinkt. Aber etwas bleibt immer in unseren Herzen zurück.\nUnabhängig von Weltanschauung\, Nationalität und Lebensform sind alle Trauernden eingeladen. Die Gespräche werden von Fachkräften des Hospizdienstes Baesweiler geführt. \n 
URL:https://www.schoenstatt-aachen.de/veranstaltung/trauercafe-2-2/2026-09-09/
LOCATION:Haus der Begegnung – Schönstattzentrum im Bistum Aachen\, Schönstattstraße 19\, Baesweiler\, 52499\, Deutschland
CATEGORIES:für Jeden
ATTACH;FMTTYPE=image/jpeg:https://www.schoenstatt-aachen.de/wp-content/uploads/2024/11/Unknown-2.jpeg
END:VEVENT
BEGIN:VEVENT
DTSTART;TZID=Europe/Berlin:20260909T190000
DTEND;TZID=Europe/Berlin:20260909T210000
DTSTAMP:20260424T175629
CREATED:20260329T152000Z
LAST-MODIFIED:20260329T152001Z
UID:10008060-1788980400-1788987600@www.schoenstatt-aachen.de
SUMMARY:Glaubensseminar für Erwachsene
DESCRIPTION:Es ist unglaublich was wir glauben \nMonat für Monat ein Wort aus dem Glaubensbekenntnis unter die Lupe nehmen.
URL:https://www.schoenstatt-aachen.de/veranstaltung/glaubensseminar-fuer-erwachsene-3/2026-09-09/
LOCATION:Haus der Begegnung – Schönstattzentrum im Bistum Aachen\, Schönstattstraße 19\, Baesweiler\, 52499\, Deutschland
CATEGORIES:für Jeden
ATTACH;FMTTYPE=image/jpeg:https://www.schoenstatt-aachen.de/wp-content/uploads/2026/02/10-Glaubensseminar-Foto-A.jpg
END:VEVENT
BEGIN:VEVENT
DTSTART;TZID=Europe/Berlin:20260909T190000
DTEND;TZID=Europe/Berlin:20260909T210000
DTSTAMP:20260424T175629
CREATED:20260329T152256Z
LAST-MODIFIED:20260329T152949Z
UID:10008204-1788980400-1788987600@www.schoenstatt-aachen.de
SUMMARY:Glaubensseminar
DESCRIPTION:Unglaublich was wir glauben!\nAn jedem Abend ein anderes Wort unseres Glaubensbekenntnisses im Gespräch miteinander neu aufstrahlen lassen. \nIch glaube … Jesus Christus … gestorben
URL:https://www.schoenstatt-aachen.de/veranstaltung/glaubensseminar-fuer-erwachsene-3-2/2026-09-09/
LOCATION:Haus der Begegnung – Schönstattzentrum im Bistum Aachen\, Schönstattstraße 19\, Baesweiler\, 52499\, Deutschland
CATEGORIES:für Jeden
ATTACH;FMTTYPE=image/jpeg:https://www.schoenstatt-aachen.de/wp-content/uploads/2026/02/10-Glaubensseminar-Foto-A.jpg
END:VEVENT
BEGIN:VEVENT
DTSTART;TZID=Europe/Berlin:20260912T150000
DTEND;TZID=Europe/Berlin:20260912T170000
DTSTAMP:20260424T175629
CREATED:20260329T104211Z
LAST-MODIFIED:20260329T104212Z
UID:10008175-1789225200-1789232400@www.schoenstatt-aachen.de
SUMMARY:Trauercafé
DESCRIPTION:Ein Mensch\, der uns verlässt\, ist wie eine Sonne\, die versinkt. Aber etwas bleibt immer in unseren Herzen zurück.\nUnabhängig von Weltanschauung\, Nationalität und Lebensform sind alle Trauernden eingeladen. Die Gespräche werden von Fachkräften des Hospizdienstes Baesweiler geführt. \n 
URL:https://www.schoenstatt-aachen.de/veranstaltung/trauercafe-2-2/2026-09-12/
LOCATION:Haus der Begegnung – Schönstattzentrum im Bistum Aachen\, Schönstattstraße 19\, Baesweiler\, 52499\, Deutschland
CATEGORIES:für Jeden
ATTACH;FMTTYPE=image/jpeg:https://www.schoenstatt-aachen.de/wp-content/uploads/2024/11/Unknown-2.jpeg
END:VEVENT
BEGIN:VEVENT
DTSTART;TZID=Europe/Berlin:20260915T090000
DTEND;TZID=Europe/Berlin:20260915T113000
DTSTAMP:20260424T175629
CREATED:20260330T164805Z
LAST-MODIFIED:20260330T164805Z
UID:10008233-1789462800-1789471800@www.schoenstatt-aachen.de
SUMMARY:Seniorenfrühstück
DESCRIPTION:Gemeinsames Frühstück – Begegnung – Impuls – Abschluss im Heiligtum
URL:https://www.schoenstatt-aachen.de/veranstaltung/seniorenfruehstueck-4/2026-09-15/
LOCATION:Haus der Begegnung – Schönstattzentrum im Bistum Aachen\, Schönstattstraße 19\, Baesweiler\, 52499\, Deutschland
CATEGORIES:Senioren
ATTACH;FMTTYPE=image/jpeg:https://www.schoenstatt-aachen.de/wp-content/uploads/2026/03/07-Seniorenfruehstueck-Foto-A.jpg
END:VEVENT
BEGIN:VEVENT
DTSTART;TZID=Europe/Berlin:20260921T180000
DTEND;TZID=Europe/Berlin:20260921T190000
DTSTAMP:20260424T175629
CREATED:20260329T151528Z
LAST-MODIFIED:20260329T151529Z
UID:10008191-1790013600-1790017200@www.schoenstatt-aachen.de
SUMMARY:Heilige Messe
DESCRIPTION:„Tut dies zu meinem Gedächtnis.“\nGelegenheit zur Beichte auf Anfrage
URL:https://www.schoenstatt-aachen.de/veranstaltung/heilige-messe-2-8/
LOCATION:Missio-Patris-Heiligtum am Schönstattzentrum\, Schönstattstraße 19\, Baesweiler\, 52499\, Deutschland
CATEGORIES:Beten und Feiern
ATTACH;FMTTYPE=image/jpeg:https://www.schoenstatt-aachen.de/wp-content/uploads/2026/02/03-Heilige-Messe-Foto.jpg
END:VEVENT
BEGIN:VEVENT
DTSTART;TZID=Europe/Berlin:20260926T140000
DTEND;TZID=Europe/Berlin:20260926T200000
DTSTAMP:20260424T175629
CREATED:20260103T182021Z
LAST-MODIFIED:20260103T182021Z
UID:10007966-1790431200-1790452800@www.schoenstatt-aachen.de
SUMMARY:Fest der Begegnung rund um das Schönstattheiligtum
DESCRIPTION:Einander begegnen und feiern\, inhaltliche und kreative Angebote für Erwachsene und Kinder \neilige Messe\, Kaffee und Kuchen\, Hüpfburg\, Grillen und Stockbrotbcke am Abend u.v.m. \n  \n  \n  \n  \nDie Veranstaltung findet im Freien statt. Über evtl. Änderungen auf Grund der Wetterlage informieren Sie sich bitte vor dem Fest auf der Homepage. \n  \n  \n 
URL:https://www.schoenstatt-aachen.de/veranstaltung/heiligtumsfest-2-2-2/
LOCATION:Missio-Patris-Heiligtum am Schönstattzentrum\, Schönstattstraße 19\, Baesweiler\, 52499\, Deutschland
CATEGORIES:Familie und EhePaare,für Jeden
ATTACH;FMTTYPE=image/jpeg:https://www.schoenstatt-aachen.de/wp-content/uploads/2021/08/DSC_4078.jpg
END:VEVENT
END:VCALENDAR