BEGIN:VCALENDAR
VERSION:2.0
PRODID:-//Schönstattzentrum im Bistum Aachen - ECPv6.15.20//NONSGML v1.0//EN
CALSCALE:GREGORIAN
METHOD:PUBLISH
X-ORIGINAL-URL:https://www.schoenstatt-aachen.de
X-WR-CALDESC:Veranstaltungen für Schönstattzentrum im Bistum Aachen
REFRESH-INTERVAL;VALUE=DURATION:PT1H
X-Robots-Tag:noindex
X-PUBLISHED-TTL:PT1H
BEGIN:VTIMEZONE
TZID:Europe/Berlin
BEGIN:DAYLIGHT
TZOFFSETFROM:+0100
TZOFFSETTO:+0200
TZNAME:CEST
DTSTART:20250330T010000
END:DAYLIGHT
BEGIN:STANDARD
TZOFFSETFROM:+0200
TZOFFSETTO:+0100
TZNAME:CET
DTSTART:20251026T010000
END:STANDARD
BEGIN:DAYLIGHT
TZOFFSETFROM:+0100
TZOFFSETTO:+0200
TZNAME:CEST
DTSTART:20260329T010000
END:DAYLIGHT
BEGIN:STANDARD
TZOFFSETFROM:+0200
TZOFFSETTO:+0100
TZNAME:CET
DTSTART:20261025T010000
END:STANDARD
BEGIN:DAYLIGHT
TZOFFSETFROM:+0100
TZOFFSETTO:+0200
TZNAME:CEST
DTSTART:20270328T010000
END:DAYLIGHT
BEGIN:STANDARD
TZOFFSETFROM:+0200
TZOFFSETTO:+0100
TZNAME:CET
DTSTART:20271031T010000
END:STANDARD
END:VTIMEZONE
BEGIN:VEVENT
DTSTART;TZID=Europe/Berlin:20261002T190000
DTEND;TZID=Europe/Berlin:20261002T200000
DTSTAMP:20260424T194310
CREATED:20260329T102219Z
LAST-MODIFIED:20260329T154237Z
UID:10008215-1790967600-1790971200@www.schoenstatt-aachen.de
SUMMARY:Eucharistische Anbetung
DESCRIPTION:„Kommt alle zu mir\, die ihr mühselig und beladen seid! Ich will Eich erquicken.“\nMatthäus 11\,28 \nEs ist auch möglich nur eine kurze Zeit dabei zu sein.
URL:https://www.schoenstatt-aachen.de/veranstaltung/eucharistische-anbetung-2/2026-10-02/
LOCATION:Missio-Patris-Heiligtum am Schönstattzentrum\, Schönstattstraße 19\, Baesweiler\, 52499\, Deutschland
CATEGORIES:Beten und Feiern
ATTACH;FMTTYPE=image/jpeg:https://www.schoenstatt-aachen.de/wp-content/uploads/2026/02/02-Eucharistische-Anbetung-Foto-A.jpg
END:VEVENT
BEGIN:VEVENT
DTSTART;TZID=Europe/Berlin:20261005T090000
DTEND;TZID=Europe/Berlin:20261005T173000
DTSTAMP:20260424T194310
CREATED:20260329T154822Z
LAST-MODIFIED:20260329T154823Z
UID:10008224-1791190800-1791221400@www.schoenstatt-aachen.de
SUMMARY:Cafeteria
DESCRIPTION:Bei einem guten Stück Kuchen und einer Tasse Kaffee miteinander zusammen sein\, einfach genießen.
URL:https://www.schoenstatt-aachen.de/veranstaltung/cafeteria-4-3/2026-10-05/
LOCATION:Haus der Begegnung – Schönstattzentrum im Bistum Aachen\, Schönstattstraße 19\, Baesweiler\, 52499\, Deutschland
CATEGORIES:für Jeden
ATTACH;FMTTYPE=image/jpeg:https://www.schoenstatt-aachen.de/wp-content/uploads/2026/01/Unknown.jpeg
END:VEVENT
BEGIN:VEVENT
DTSTART;TZID=Europe/Berlin:20261005T193000
DTEND;TZID=Europe/Berlin:20261005T203000
DTSTAMP:20260424T194310
CREATED:20260329T103210Z
LAST-MODIFIED:20260329T103211Z
UID:10008168-1791228600-1791232200@www.schoenstatt-aachen.de
SUMMARY:Rosenkranz für den Frieden
DESCRIPTION:„Wir wollen den Rosenkranz nicht allein mit unseren Lippen\, sondern mit dem Herzen beten.“    \nPater Josef Kentenich
URL:https://www.schoenstatt-aachen.de/veranstaltung/rosenkranz-fuer-den-frieden-2-2/2026-10-05/
LOCATION:Missio-Patris-Heiligtum am Schönstattzentrum\, Schönstattstraße 19\, Baesweiler\, 52499\, Deutschland
CATEGORIES:Beten und Feiern
ATTACH;FMTTYPE=image/png:https://www.schoenstatt-aachen.de/wp-content/uploads/2026/02/01-Rosenkranz-fuer-den-Frieden-Foto-A-2.png
END:VEVENT
BEGIN:VEVENT
DTSTART;TZID=Europe/Berlin:20261006T150000
DTEND;TZID=Europe/Berlin:20261006T170000
DTSTAMP:20260424T194310
CREATED:20260329T104211Z
LAST-MODIFIED:20260329T104212Z
UID:10008176-1791298800-1791306000@www.schoenstatt-aachen.de
SUMMARY:Trauercafé
DESCRIPTION:Ein Mensch\, der uns verlässt\, ist wie eine Sonne\, die versinkt. Aber etwas bleibt immer in unseren Herzen zurück.\nUnabhängig von Weltanschauung\, Nationalität und Lebensform sind alle Trauernden eingeladen. Die Gespräche werden von Fachkräften des Hospizdienstes Baesweiler geführt. \n 
URL:https://www.schoenstatt-aachen.de/veranstaltung/trauercafe-2-2/2026-10-06/
LOCATION:Haus der Begegnung – Schönstattzentrum im Bistum Aachen\, Schönstattstraße 19\, Baesweiler\, 52499\, Deutschland
CATEGORIES:für Jeden
ATTACH;FMTTYPE=image/jpeg:https://www.schoenstatt-aachen.de/wp-content/uploads/2024/11/Unknown-2.jpeg
END:VEVENT
BEGIN:VEVENT
DTSTART;TZID=Europe/Berlin:20261006T190000
DTEND;TZID=Europe/Berlin:20261006T200000
DTSTAMP:20260424T194310
CREATED:20260208T150456Z
LAST-MODIFIED:20260208T152047Z
UID:10008127-1791313200-1791316800@www.schoenstatt-aachen.de
SUMMARY:Lichterrosenkranz
DESCRIPTION:am Vorabend des Rosenkranzfestes \nMiteinander die eigenen Sorgen und die der Welt ins Gebet bringen. \nLichterrosenkranz im Haus \nanschließend Prozession mit Abschluss im Heiligtum \n 
URL:https://www.schoenstatt-aachen.de/veranstaltung/lichterrosenkranz/
LOCATION:Haus der Begegnung – Schönstattzentrum im Bistum Aachen\, Schönstattstraße 19\, Baesweiler\, 52499\, Deutschland
CATEGORIES:Beten und Feiern
ATTACH;FMTTYPE=image/png:https://www.schoenstatt-aachen.de/wp-content/uploads/2023/12/Lichterrosenkranz.png
ORGANIZER;CN="Sch%C3%B6nstatt-Familienbewegung":MAILTO:info@schoenstatt-aachen.de
END:VEVENT
BEGIN:VEVENT
DTSTART;TZID=Europe/Berlin:20261006T190000
DTEND;TZID=Europe/Berlin:20261006T210000
DTSTAMP:20260424T194310
CREATED:20260329T152000Z
LAST-MODIFIED:20260329T152001Z
UID:10008199-1791313200-1791320400@www.schoenstatt-aachen.de
SUMMARY:Glaubensseminar für Erwachsene
DESCRIPTION:Es ist unglaublich was wir glauben \nMonat für Monat ein Wort aus dem Glaubensbekenntnis unter die Lupe nehmen.
URL:https://www.schoenstatt-aachen.de/veranstaltung/glaubensseminar-fuer-erwachsene-3/2026-10-06/
LOCATION:Haus der Begegnung – Schönstattzentrum im Bistum Aachen\, Schönstattstraße 19\, Baesweiler\, 52499\, Deutschland
CATEGORIES:für Jeden
ATTACH;FMTTYPE=image/jpeg:https://www.schoenstatt-aachen.de/wp-content/uploads/2026/02/10-Glaubensseminar-Foto-A.jpg
END:VEVENT
BEGIN:VEVENT
DTSTART;TZID=Europe/Berlin:20261008T090000
DTEND;TZID=Europe/Berlin:20261008T113000
DTSTAMP:20260424T194310
CREATED:20260330T164805Z
LAST-MODIFIED:20260330T164805Z
UID:10008234-1791450000-1791459000@www.schoenstatt-aachen.de
SUMMARY:Seniorenfrühstück
DESCRIPTION:Gemeinsames Frühstück – Begegnung – Impuls – Abschluss im Heiligtum
URL:https://www.schoenstatt-aachen.de/veranstaltung/seniorenfruehstueck-4/2026-10-08/
LOCATION:Haus der Begegnung – Schönstattzentrum im Bistum Aachen\, Schönstattstraße 19\, Baesweiler\, 52499\, Deutschland
CATEGORIES:Senioren
ATTACH;FMTTYPE=image/jpeg:https://www.schoenstatt-aachen.de/wp-content/uploads/2026/03/07-Seniorenfruehstueck-Foto-A.jpg
END:VEVENT
BEGIN:VEVENT
DTSTART;TZID=Europe/Berlin:20261010T133000
DTEND;TZID=Europe/Berlin:20261011T160000
DTSTAMP:20260424T194310
CREATED:20260208T151103Z
LAST-MODIFIED:20260208T151103Z
UID:10008129-1791639000-1791734400@www.schoenstatt-aachen.de
SUMMARY:Mädchentreffen
DESCRIPTION:für Mädchen ab 9 Jahren \nGemeinschaft erleben\, Persönlichkeit stärken\, den Glauben besser kennenlernen \nZum Abschluss am Sonntag sind die Eltern herzlich eingeladen.
URL:https://www.schoenstatt-aachen.de/veranstaltung/maedchentreffen/2026-10-10/
LOCATION:Haus der Begegnung – Schönstattzentrum im Bistum Aachen\, Schönstattstraße 19\, Baesweiler\, 52499\, Deutschland
CATEGORIES:Kinder und Jugendliche
ATTACH;FMTTYPE=image/jpeg:https://www.schoenstatt-aachen.de/wp-content/uploads/2024/12/Foto-Maedchentreffen.jpg
END:VEVENT
BEGIN:VEVENT
DTSTART;TZID=Europe/Berlin:20261014T190000
DTEND;TZID=Europe/Berlin:20261014T210000
DTSTAMP:20260424T194310
CREATED:20260329T152256Z
LAST-MODIFIED:20260329T152949Z
UID:10008205-1792004400-1792011600@www.schoenstatt-aachen.de
SUMMARY:Glaubensseminar
DESCRIPTION:Unglaublich was wir glauben!\nAn jedem Abend ein anderes Wort unseres Glaubensbekenntnisses im Gespräch miteinander neu aufstrahlen lassen. \nIch glaube … Jesus Christus … gestorben
URL:https://www.schoenstatt-aachen.de/veranstaltung/glaubensseminar-fuer-erwachsene-3-2/2026-10-14/
LOCATION:Haus der Begegnung – Schönstattzentrum im Bistum Aachen\, Schönstattstraße 19\, Baesweiler\, 52499\, Deutschland
CATEGORIES:für Jeden
ATTACH;FMTTYPE=image/jpeg:https://www.schoenstatt-aachen.de/wp-content/uploads/2026/02/10-Glaubensseminar-Foto-A.jpg
END:VEVENT
BEGIN:VEVENT
DTSTART;TZID=Europe/Berlin:20261019T180000
DTEND;TZID=Europe/Berlin:20261019T190000
DTSTAMP:20260424T194310
CREATED:20260329T151615Z
LAST-MODIFIED:20260329T151615Z
UID:10008192-1792432800-1792436400@www.schoenstatt-aachen.de
SUMMARY:Heilige Messe
DESCRIPTION:„Tut dies zu meinem Gedächtnis.“\nGelegenheit zur Beichte auf Anfrage
URL:https://www.schoenstatt-aachen.de/veranstaltung/heilige-messe-2-9/
LOCATION:Missio-Patris-Heiligtum am Schönstattzentrum\, Schönstattstraße 19\, Baesweiler\, 52499\, Deutschland
CATEGORIES:Beten und Feiern
ATTACH;FMTTYPE=image/jpeg:https://www.schoenstatt-aachen.de/wp-content/uploads/2026/02/03-Heilige-Messe-Foto.jpg
END:VEVENT
BEGIN:VEVENT
DTSTART;TZID=Europe/Berlin:20261023T190000
DTEND;TZID=Europe/Berlin:20261023T220000
DTSTAMP:20260424T194310
CREATED:20260208T132307Z
LAST-MODIFIED:20260326T181436Z
UID:10008052-1792782000-1792792800@www.schoenstatt-aachen.de
SUMMARY:Freitagabend - Feierabend
DESCRIPTION:Für (Ehe)Paare\, die ihre Liebe vertiefen wollen \nWirklich Leben!“\nWas treibt uns an? Wo finden wir Freude? Wo Leid? Was macht uns aus? Und was machen wir damit? Wofür sind wir da? Zu Zweit? Ist Gott dabei? Ist es sein Plan und sein Wille: Das Leben in Fülle? \nIm Programm vorgesehen sind nach einer kurzen Einführung ein Vortrag\, Ehegespräch\, Austausch in der Runde\, Abschluss im Schönstattheiligtum. \nReferenten: \nBénédicte und Jacek Szymanski\, Aachen \nWer Lust hat\, ist eingeladen\, zu einem gemütlichen Zusammensein zu bleiben. Ende offen…
URL:https://www.schoenstatt-aachen.de/veranstaltung/freitagabend-feierabend/2026-10-23/
LOCATION:Haus der Begegnung – Schönstattzentrum im Bistum Aachen\, Schönstattstraße 19\, Baesweiler\, 52499\, Deutschland
CATEGORIES:Familie und EhePaare
ATTACH;FMTTYPE=image/jpeg:https://www.schoenstatt-aachen.de/wp-content/uploads/2026/02/IMG_5214.jpg
ORGANIZER;CN="Sch%C3%B6nstatt-Familienbewegung":MAILTO:info@schoenstatt-aachen.de
END:VEVENT
END:VCALENDAR