BEGIN:VCALENDAR
VERSION:2.0
PRODID:-//Schönstattzentrum im Bistum Aachen - ECPv6.15.20//NONSGML v1.0//EN
CALSCALE:GREGORIAN
METHOD:PUBLISH
X-WR-CALNAME:Schönstattzentrum im Bistum Aachen
X-ORIGINAL-URL:https://www.schoenstatt-aachen.de
X-WR-CALDESC:Veranstaltungen für Schönstattzentrum im Bistum Aachen
REFRESH-INTERVAL;VALUE=DURATION:PT1H
X-Robots-Tag:noindex
X-PUBLISHED-TTL:PT1H
BEGIN:VTIMEZONE
TZID:Europe/Berlin
BEGIN:DAYLIGHT
TZOFFSETFROM:+0100
TZOFFSETTO:+0200
TZNAME:CEST
DTSTART:20250330T010000
END:DAYLIGHT
BEGIN:STANDARD
TZOFFSETFROM:+0200
TZOFFSETTO:+0100
TZNAME:CET
DTSTART:20251026T010000
END:STANDARD
BEGIN:DAYLIGHT
TZOFFSETFROM:+0100
TZOFFSETTO:+0200
TZNAME:CEST
DTSTART:20260329T010000
END:DAYLIGHT
BEGIN:STANDARD
TZOFFSETFROM:+0200
TZOFFSETTO:+0100
TZNAME:CET
DTSTART:20261025T010000
END:STANDARD
BEGIN:DAYLIGHT
TZOFFSETFROM:+0100
TZOFFSETTO:+0200
TZNAME:CEST
DTSTART:20270328T010000
END:DAYLIGHT
BEGIN:STANDARD
TZOFFSETFROM:+0200
TZOFFSETTO:+0100
TZNAME:CET
DTSTART:20271031T010000
END:STANDARD
END:VTIMEZONE
BEGIN:VEVENT
DTSTART;TZID=Europe/Berlin:20260420T180000
DTEND;TZID=Europe/Berlin:20260420T190000
DTSTAMP:20260420T131159
CREATED:20260329T150854Z
LAST-MODIFIED:20260329T150854Z
UID:10008186-1776708000-1776711600@www.schoenstatt-aachen.de
SUMMARY:Heilige Messe
DESCRIPTION:„Tut dies zu meinem Gedächtnis.“\nGelegenheit zur Beichte auf Anfrage
URL:https://www.schoenstatt-aachen.de/veranstaltung/heilige-messe-2-3/
LOCATION:Missio-Patris-Heiligtum am Schönstattzentrum\, Schönstattstraße 19\, Baesweiler\, 52499\, Deutschland
CATEGORIES:Beten und Feiern
ATTACH;FMTTYPE=image/jpeg:https://www.schoenstatt-aachen.de/wp-content/uploads/2026/02/03-Heilige-Messe-Foto.jpg
END:VEVENT
BEGIN:VEVENT
DTSTART;TZID=Europe/Berlin:20260424T190000
DTEND;TZID=Europe/Berlin:20260424T220000
DTSTAMP:20260420T131159
CREATED:20260208T132307Z
LAST-MODIFIED:20260326T181436Z
UID:10008051-1777057200-1777068000@www.schoenstatt-aachen.de
SUMMARY:Freitagabend - Feierabend
DESCRIPTION:Für (Ehe)Paare\, die ihre Liebe vertiefen wollen \nWirklich Leben!“\nWas treibt uns an? Wo finden wir Freude? Wo Leid? Was macht uns aus? Und was machen wir damit? Wofür sind wir da? Zu Zweit? Ist Gott dabei? Ist es sein Plan und sein Wille: Das Leben in Fülle? \nIm Programm vorgesehen sind nach einer kurzen Einführung ein Vortrag\, Ehegespräch\, Austausch in der Runde\, Abschluss im Schönstattheiligtum. \nReferenten: \nBénédicte und Jacek Szymanski\, Aachen \nWer Lust hat\, ist eingeladen\, zu einem gemütlichen Zusammensein zu bleiben. Ende offen…
URL:https://www.schoenstatt-aachen.de/veranstaltung/freitagabend-feierabend/2026-04-24/
LOCATION:Haus der Begegnung – Schönstattzentrum im Bistum Aachen\, Schönstattstraße 19\, Baesweiler\, 52499\, Deutschland
CATEGORIES:Familie und EhePaare
ATTACH;FMTTYPE=image/jpeg:https://www.schoenstatt-aachen.de/wp-content/uploads/2026/02/IMG_5214.jpg
ORGANIZER;CN="Sch%C3%B6nstatt-Familienbewegung":MAILTO:info@schoenstatt-aachen.de
END:VEVENT
BEGIN:VEVENT
DTSTART;TZID=Europe/Berlin:20260425T090000
DTEND;TZID=Europe/Berlin:20260425T130000
DTSTAMP:20260420T131159
CREATED:20260326T065107Z
LAST-MODIFIED:20260326T065107Z
UID:10008137-1777107600-1777122000@www.schoenstatt-aachen.de
SUMMARY:Kinderflohmarkt
DESCRIPTION:„Errichte Deinen eigenen Stand auf unserem Gelände“\nSpielsachen\, Baby- oder Kinderkleidung\nWährend des Flohmarkts werden Getränke und Speisen angeboten \nBei schlechtem Wetter können die Stände ins Haus Verlegt werden. \nKeine Standgebühr\, Biertisch und Bank ausleihen für 5 €. \nHerzlich Willkommen auch allen Besuchern!
URL:https://www.schoenstatt-aachen.de/veranstaltung/kinderflohmarkt/
LOCATION:Haus der Begegnung – Schönstattzentrum im Bistum Aachen\, Schönstattstraße 19\, Baesweiler\, 52499\, Deutschland
CATEGORIES:Familie und EhePaare,für Jeden
ATTACH;FMTTYPE=image/jpeg:https://www.schoenstatt-aachen.de/wp-content/uploads/2025/02/IMG_2807.jpg
ORGANIZER;CN="Sch%C3%B6nstatt-Familienbewegung":MAILTO:info@schoenstatt-aachen.de
END:VEVENT
END:VCALENDAR